BEGIN:VCALENDAR
VERSION:2.0
PRODID:-//Pro Regio Huttwil//NONSGML kigkonsult.se iCalcreator 2.16.12//
METHOD:PUBLISH
X-MS-OLK-FORCEINSPECTOROPEN:TRUE
BEGIN:VEVENT
UID:20260420T111237CEST-4963h9d2CJ@Pro Regio Huttwil
DTSTAMP:20260420T091237Z
DESCRIPTION:
DTSTART:20191029T113000
DTEND:20191029T000000
LOCATION:Vereinshaus EGW
ORGANIZER:MAILTO:Pro Regio Huttwil <info@regio-huttwil.ch>
SUMMARY:Mittagessen für Alleinstehende
END:VEVENT
END:VCALENDAR
