BEGIN:VCALENDAR
VERSION:2.0
PRODID:-//Pro Regio Huttwil//NONSGML kigkonsult.se iCalcreator 2.16.12//
METHOD:PUBLISH
X-MS-OLK-FORCEINSPECTOROPEN:TRUE
BEGIN:VEVENT
UID:20260420T101915CEST-9869djUK9u@Pro Regio Huttwil
DTSTAMP:20260420T081915Z
DESCRIPTION:
DTSTART:20191010T000000
DTEND:20191013T000000
LOCATION:MZH
ORGANIZER:MAILTO:Pro Regio Huttwil <info@regio-huttwil.ch>
SUMMARY:Konzert\, Theater
END:VEVENT
END:VCALENDAR
