BEGIN:VCALENDAR
VERSION:2.0
PRODID:-//Pro Regio Huttwil//NONSGML kigkonsult.se iCalcreator 2.16.12//
METHOD:PUBLISH
X-MS-OLK-FORCEINSPECTOROPEN:TRUE
BEGIN:VEVENT
UID:20260420T101755CEST-1617aRuxd1@Pro Regio Huttwil
DTSTAMP:20260420T081755Z
DESCRIPTION:
DTSTART:20190928T000000
DTEND:20190929T000000
LOCATION:MZH
ORGANIZER:MAILTO:Pro Regio Huttwil <info@regio-huttwil.ch>
SUMMARY:Jubiläum 10 Jahre B-Mannschaft
END:VEVENT
END:VCALENDAR
