BEGIN:VCALENDAR
VERSION:2.0
PRODID:-//Pro Regio Huttwil//NONSGML kigkonsult.se iCalcreator 2.16.12//
METHOD:PUBLISH
X-MS-OLK-FORCEINSPECTOROPEN:TRUE
BEGIN:VEVENT
UID:20260420T101929CEST-9659Bc3H5e@Pro Regio Huttwil
DTSTAMP:20260420T081929Z
DESCRIPTION:
DTSTART:20190926T000000
DTEND:20190926T000000
LOCATION:MZH/Tagungsraum
ORGANIZER:MAILTO:Pro Regio Huttwil <info@regio-huttwil.ch>
SUMMARY:Blutspenden
END:VEVENT
END:VCALENDAR
