BEGIN:VCALENDAR
VERSION:2.0
PRODID:-//Pro Regio Huttwil//NONSGML kigkonsult.se iCalcreator 2.16.12//
METHOD:PUBLISH
X-MS-OLK-FORCEINSPECTOROPEN:TRUE
BEGIN:VEVENT
UID:20260420T120216CEST-4132VrnSe9@Pro Regio Huttwil
DTSTAMP:20260420T100216Z
DESCRIPTION:
DTSTART:20190920T000000
DTEND:20190923T000000
LOCATION:Schiessplatz
ORGANIZER:MAILTO:Pro Regio Huttwil <info@regio-huttwil.ch>
SUMMARY:21. Emmentalisches Landesschiessen 2019
END:VEVENT
END:VCALENDAR
