BEGIN:VCALENDAR
VERSION:2.0
PRODID:-//Pro Regio Huttwil//NONSGML kigkonsult.se iCalcreator 2.16.12//
METHOD:PUBLISH
X-MS-OLK-FORCEINSPECTOROPEN:TRUE
BEGIN:VEVENT
UID:20260422T103210CEST-5035ZGdhc1@Pro Regio Huttwil
DTSTAMP:20260422T083210Z
DESCRIPTION:
DTSTART:20190908T000000
DTEND:20190908T000000
LOCATION:Dürrenroth
ORGANIZER:MAILTO:Pro Regio Huttwil <info@regio-huttwil.ch>
SUMMARY:slowUp
END:VEVENT
END:VCALENDAR
