BEGIN:VCALENDAR
VERSION:2.0
PRODID:-//Pro Regio Huttwil//NONSGML kigkonsult.se iCalcreator 2.16.12//
METHOD:PUBLISH
X-MS-OLK-FORCEINSPECTOROPEN:TRUE
BEGIN:VEVENT
UID:20260420T120217CEST-8255V19Wxb@Pro Regio Huttwil
DTSTAMP:20260420T100217Z
DESCRIPTION:
DTSTART:20190625T113000
DTEND:20190625T000000
LOCATION:Vereinshaus EGW
ORGANIZER:MAILTO:Pro Regio Huttwil <info@regio-huttwil.ch>
SUMMARY:Mittagessen für Alleinstehende
END:VEVENT
END:VCALENDAR
