BEGIN:VCALENDAR
VERSION:2.0
PRODID:-//Pro Regio Huttwil//NONSGML kigkonsult.se iCalcreator 2.16.12//
METHOD:PUBLISH
X-MS-OLK-FORCEINSPECTOROPEN:TRUE
BEGIN:VEVENT
UID:20260420T120149CEST-0027MPmXAn@Pro Regio Huttwil
DTSTAMP:20260420T100149Z
DESCRIPTION:
DTSTART:20190418T000000
DTEND:20190418T000000
LOCATION:Schulhaus
ORGANIZER:MAILTO:Pro Regio Huttwil <info@regio-huttwil.ch>
SUMMARY:Ostereierverkauf
END:VEVENT
END:VCALENDAR
