BEGIN:VCALENDAR
VERSION:2.0
PRODID:-//Pro Regio Huttwil//NONSGML kigkonsult.se iCalcreator 2.16.12//
METHOD:PUBLISH
X-MS-OLK-FORCEINSPECTOROPEN:TRUE
BEGIN:VEVENT
UID:20260420T120137CEST-5353lL5cJf@Pro Regio Huttwil
DTSTAMP:20260420T100137Z
DESCRIPTION:
DTSTART:20190305T133000
DTEND:20190305T000000
LOCATION:Vereinshaus EGW
ORGANIZER:MAILTO:Pro Regio Huttwil <info@regio-huttwil.ch>
SUMMARY:Gemeinschaftsnachmittag
END:VEVENT
END:VCALENDAR
