BEGIN:VCALENDAR
VERSION:2.0
PRODID:-//Pro Regio Huttwil//NONSGML kigkonsult.se iCalcreator 2.16.12//
METHOD:PUBLISH
X-MS-OLK-FORCEINSPECTOROPEN:TRUE
BEGIN:VEVENT
UID:20260422T104147CEST-5711k1enoL@Pro Regio Huttwil
DTSTAMP:20260422T084147Z
DESCRIPTION:
DTSTART:20190220T133000
DTEND:20190220T000000
LOCATION:Tagungsraum
ORGANIZER:MAILTO:Pro Regio Huttwil <info@regio-huttwil.ch>
SUMMARY:Seniorennachmittag
END:VEVENT
END:VCALENDAR
