BEGIN:VCALENDAR
VERSION:2.0
PRODID:-//Pro Regio Huttwil//NONSGML kigkonsult.se iCalcreator 2.16.12//
METHOD:PUBLISH
X-MS-OLK-FORCEINSPECTOROPEN:TRUE
BEGIN:VEVENT
UID:20260422T104048CEST-1780vR1uvr@Pro Regio Huttwil
DTSTAMP:20260422T084048Z
DESCRIPTION:
DTSTART:20190209T140000
DTEND:20190209T193000
LOCATION:MZH
ORGANIZER:MAILTO:Pro Regio Huttwil <info@regio-huttwil.ch>
SUMMARY:Meisterschaftsspiele
END:VEVENT
END:VCALENDAR
