BEGIN:VCALENDAR
VERSION:2.0
PRODID:-//Pro Regio Huttwil//NONSGML kigkonsult.se iCalcreator 2.16.12//
METHOD:PUBLISH
X-MS-OLK-FORCEINSPECTOROPEN:TRUE
BEGIN:VEVENT
UID:20260422T103021CEST-99279Fv2e9@Pro Regio Huttwil
DTSTAMP:20260422T083021Z
DESCRIPTION:
DTSTART:20190119T000000
DTEND:20190119T000000
LOCATION:MZH
ORGANIZER:MAILTO:Pro Regio Huttwil <info@regio-huttwil.ch>
SUMMARY:Racletteabend
END:VEVENT
END:VCALENDAR
