BEGIN:VCALENDAR
VERSION:2.0
PRODID:-//Pro Regio Huttwil//NONSGML kigkonsult.se iCalcreator 2.16.12//
METHOD:PUBLISH
X-MS-OLK-FORCEINSPECTOROPEN:TRUE
BEGIN:VEVENT
UID:20260420T101743CEST-8894UBMpvh@Pro Regio Huttwil
DTSTAMP:20260420T081743Z
DESCRIPTION:
DTSTART:20191116T000000
DTEND:20191117T000000
LOCATION:KGH
ORGANIZER:MAILTO:Pro Regio Huttwil <info@regio-huttwil.ch>
SUMMARY:Lotto
END:VEVENT
END:VCALENDAR
