BEGIN:VCALENDAR
VERSION:2.0
PRODID:-//Pro Regio Huttwil//NONSGML kigkonsult.se iCalcreator 2.16.12//
METHOD:PUBLISH
X-MS-OLK-FORCEINSPECTOROPEN:TRUE
BEGIN:VEVENT
UID:20260420T141249CEST-5449mFFkno@Pro Regio Huttwil
DTSTAMP:20260420T121249Z
DESCRIPTION:    
DTSTART:20191109T000000
DTEND:20191109T000000
LOCATION:KGH
ORGANIZER:MAILTO:Pro Regio Huttwil <info@regio-huttwil.ch>
SUMMARY:Konzert und Theater
END:VEVENT
END:VCALENDAR
