BEGIN:VCALENDAR
VERSION:2.0
PRODID:-//Pro Regio Huttwil//NONSGML kigkonsult.se iCalcreator 2.16.12//
METHOD:PUBLISH
X-MS-OLK-FORCEINSPECTOROPEN:TRUE
BEGIN:VEVENT
UID:20260420T101956CEST-5507hnnzHA@Pro Regio Huttwil
DTSTAMP:20260420T081956Z
DESCRIPTION:
DTSTART:20191102T000000
DTEND:20191103T000000
LOCATION:KGH
ORGANIZER:MAILTO:Pro Regio Huttwil <info@regio-huttwil.ch>
SUMMARY:Lotto
END:VEVENT
END:VCALENDAR
