BEGIN:VCALENDAR
VERSION:2.0
PRODID:-//Pro Regio Huttwil//NONSGML kigkonsult.se iCalcreator 2.16.12//
METHOD:PUBLISH
X-MS-OLK-FORCEINSPECTOROPEN:TRUE
BEGIN:VEVENT
UID:20260420T111206CEST-000304H57f@Pro Regio Huttwil
DTSTAMP:20260420T091206Z
DESCRIPTION:
DTSTART:20191027T000000
DTEND:20191027T000000
LOCATION:KGH
ORGANIZER:MAILTO:Pro Regio Huttwil <info@regio-huttwil.ch>
SUMMARY:Gottesdienst für Gross und Chlii
END:VEVENT
END:VCALENDAR
