BEGIN:VCALENDAR
VERSION:2.0
PRODID:-//Pro Regio Huttwil//NONSGML kigkonsult.se iCalcreator 2.16.12//
METHOD:PUBLISH
X-MS-OLK-FORCEINSPECTOROPEN:TRUE
BEGIN:VEVENT
UID:20260420T120137CEST-2195Ev0P6m@Pro Regio Huttwil
DTSTAMP:20260420T100137Z
DESCRIPTION:
DTSTART:20190802T000000
DTEND:20190802T000000
LOCATION:KGH
ORGANIZER:MAILTO:Pro Regio Huttwil <info@regio-huttwil.ch>
SUMMARY:Blutspendenaktion SRK
END:VEVENT
END:VCALENDAR
