BEGIN:VCALENDAR
VERSION:2.0
PRODID:-//Pro Regio Huttwil//NONSGML kigkonsult.se iCalcreator 2.16.12//
METHOD:PUBLISH
X-MS-OLK-FORCEINSPECTOROPEN:TRUE
BEGIN:VEVENT
UID:20260420T120008CEST-2664eIsN4a@Pro Regio Huttwil
DTSTAMP:20260420T100008Z
DESCRIPTION:
DTSTART:20190602T000000
DTEND:20190602T000000
LOCATION:KGH
ORGANIZER:MAILTO:Pro Regio Huttwil <info@regio-huttwil.ch>
SUMMARY:Konfirmation
END:VEVENT
END:VCALENDAR
