BEGIN:VCALENDAR
VERSION:2.0
PRODID:-//Pro Regio Huttwil//NONSGML kigkonsult.se iCalcreator 2.16.12//
METHOD:PUBLISH
X-MS-OLK-FORCEINSPECTOROPEN:TRUE
BEGIN:VEVENT
UID:20260422T104124CEST-6086znbpR5@Pro Regio Huttwil
DTSTAMP:20260422T084124Z
DESCRIPTION:
DTSTART:20190319T000000
DTEND:20190319T000000
LOCATION:KGH
ORGANIZER:MAILTO:Pro Regio Huttwil <info@regio-huttwil.ch>
SUMMARY:Mittagstisch und Seniorennachmittag
END:VEVENT
END:VCALENDAR
