BEGIN:VCALENDAR
VERSION:2.0
PRODID:-//Pro Regio Huttwil//NONSGML kigkonsult.se iCalcreator 2.16.12//
METHOD:PUBLISH
X-MS-OLK-FORCEINSPECTOROPEN:TRUE
BEGIN:VEVENT
UID:20260422T122122CEST-9390VlBhOb@Pro Regio Huttwil
DTSTAMP:20260422T102122Z
DESCRIPTION:
DTSTART:20190317T000000
DTEND:20190317T000000
LOCATION:Kirche / KGH
ORGANIZER:MAILTO:Pro Regio Huttwil <info@regio-huttwil.ch>
SUMMARY:Jugendgottesdienst
END:VEVENT
END:VCALENDAR
