BEGIN:VCALENDAR
VERSION:2.0
PRODID:-//Pro Regio Huttwil//NONSGML kigkonsult.se iCalcreator 2.16.12//
METHOD:PUBLISH
X-MS-OLK-FORCEINSPECTOROPEN:TRUE
BEGIN:VEVENT
UID:20260420T115826CEST-4217j4e1sU@Pro Regio Huttwil
DTSTAMP:20260420T095826Z
DESCRIPTION:
DTSTART:20190226T000000
DTEND:20190226T000000
LOCATION:Vereinshaus
ORGANIZER:MAILTO:Pro Regio Huttwil <info@regio-huttwil.ch>
SUMMARY:Kafistübli
END:VEVENT
END:VCALENDAR
