BEGIN:VCALENDAR
VERSION:2.0
PRODID:-//Pro Regio Huttwil//NONSGML kigkonsult.se iCalcreator 2.16.12//
METHOD:PUBLISH
X-MS-OLK-FORCEINSPECTOROPEN:TRUE
BEGIN:VEVENT
UID:20260420T120000CEST-7093aUuGcD@Pro Regio Huttwil
DTSTAMP:20260420T100000Z
DESCRIPTION:
DTSTART:20181202T180000
DTEND:20181202T190000
LOCATION:Ref. 
ORGANIZER:MAILTO:Pro Regio Huttwil <info@regio-huttwil.ch>
SUMMARY:Adventskonzert der Stadtmusik Huttwil
END:VEVENT
END:VCALENDAR
