BEGIN:VCALENDAR
VERSION:2.0
PRODID:-//Pro Regio Huttwil//NONSGML kigkonsult.se iCalcreator 2.16.12//
METHOD:PUBLISH
X-MS-OLK-FORCEINSPECTOROPEN:TRUE
BEGIN:VEVENT
UID:20260420T120149CEST-7071mJ0gsz@Pro Regio Huttwil
DTSTAMP:20260420T100149Z
DESCRIPTION:
DTSTART:20181129T190500
DTEND:20181129T200500
LOCATION:Ref. Kirche
ORGANIZER:MAILTO:Pro Regio Huttwil <info@regio-huttwil.ch>
SUMMARY:Weihnachtskonzert\, Oberstufe Hofmatt
END:VEVENT
END:VCALENDAR
