BEGIN:VCALENDAR
VERSION:2.0
PRODID:-//Pro Regio Huttwil//NONSGML kigkonsult.se iCalcreator 2.16.12//
METHOD:PUBLISH
X-MS-OLK-FORCEINSPECTOROPEN:TRUE
BEGIN:VEVENT
UID:20260420T115825CEST-7476zUMmCx@Pro Regio Huttwil
DTSTAMP:20260420T095825Z
DESCRIPTION:
DTSTART:20181129T153000
DTEND:20181129T163000
LOCATION:Ref. Kirche
ORGANIZER:MAILTO:Pro Regio Huttwil <info@regio-huttwil.ch>
SUMMARY:Weihnachtskonzert\, Oberstufe Hofmatt
END:VEVENT
END:VCALENDAR
