BEGIN:VCALENDAR
VERSION:2.0
PRODID:-//Pro Regio Huttwil//NONSGML kigkonsult.se iCalcreator 2.16.12//
METHOD:PUBLISH
X-MS-OLK-FORCEINSPECTOROPEN:TRUE
BEGIN:VEVENT
UID:20260420T120009CEST-6298dln5xh@Pro Regio Huttwil
DTSTAMP:20260420T100009Z
DESCRIPTION:
DTSTART:20181202T100000
DTEND:20181202T180000
LOCATION:Hotel Kleiner Prinz  
ORGANIZER:MAILTO:Pro Regio Huttwil <info@regio-huttwil.ch>
SUMMARY:Spielzeugmarkt
END:VEVENT
END:VCALENDAR
