BEGIN:VCALENDAR
VERSION:2.0
PRODID:-//Pro Regio Huttwil//NONSGML kigkonsult.se iCalcreator 2.16.12//
METHOD:PUBLISH
X-MS-OLK-FORCEINSPECTOROPEN:TRUE
BEGIN:VEVENT
UID:20260422T141416CEST-7880crwG4T@Pro Regio Huttwil
DTSTAMP:20260422T121416Z
DESCRIPTION:
DTSTART:20181130T200000
DTEND:20181130T220000
LOCATION:Ref. Kirche
ORGANIZER:MAILTO:Pro Regio Huttwil <info@regio-huttwil.ch>
SUMMARY:Konzert Jodel Liturgie
END:VEVENT
END:VCALENDAR
