BEGIN:VCALENDAR
VERSION:2.0
PRODID:-//Pro Regio Huttwil//NONSGML kigkonsult.se iCalcreator 2.16.12//
METHOD:PUBLISH
X-MS-OLK-FORCEINSPECTOROPEN:TRUE
BEGIN:VEVENT
UID:20260422T123532CEST-9847a5XXUC@Pro Regio Huttwil
DTSTAMP:20260422T103532Z
DESCRIPTION:Auch in ihrem vierten Programm arbeiten Schertenlaib + Jegerleh
 ner mit der subversiven Kraft der Phantasie\, pendeln schwankend zwischen 
 höherem Blödsinn und der Tiefe des Raums. Ordnung und Chaos\, Innigkeit un
 d leichtfüssiger Irrsinn\, Weltallmusik und Klangteppich verdichten sich. 
 Übrig bleibt die Suche nach Rhythmus\, Poesie\, Sinnlichkeit und Balance. 
 Während Schertenlaib noch ganz bei sich ist und nach der Quadratur des Kre
 ises sucht\, schwadroniert Jegerlehner leichtfüssig entlang der Weltläufig
 keit und verstrickt sich im Groove. Beide wissen: Es ist der Beat\, der bl
 eibt.
DTSTART:20181123T201500
DTEND:20181123T230000
LOCATION:Keller-Bistro Alte Mühle
ORGANIZER:MAILTO:Pro Regio Huttwil <info@regio-huttwil.ch>
SUMMARY:Schertenlaib und Jegerlehner - Tryout neues Programm
END:VEVENT
END:VCALENDAR
