BEGIN:VCALENDAR
VERSION:2.0
PRODID:-//Pro Regio Huttwil//NONSGML kigkonsult.se iCalcreator 2.16.12//
METHOD:PUBLISH
X-MS-OLK-FORCEINSPECTOROPEN:TRUE
BEGIN:VEVENT
UID:20260422T123331CEST-057290LXLp@Pro Regio Huttwil
DTSTAMP:20260422T103331Z
DESCRIPTION:Das irische Duo «Dun Aengus» besteht aus den Musikern Peter And
 ersson und Martin Rahmberg. Der Name der Band kommt von einem alten Steinf
 ort von Inishmore an der Westküste Irlands. Beide singen mit ihren kräftig
 en rauen Stimmen und begleiten ihren Gesang mit Gitarre und Tenorbanjo. Du
 n Aengus haben ein reiches Repertoire Irischer Melodien und Lieder\, auch 
 beeinflusst von Schottland. Die beiden entführen uns mit ihrem Spiel in di
 e wilde\, mystische\, weite Landschaft Irlands.
DTSTART:20181019T201500
DTEND:20181019T230000
LOCATION:Keller-Bistro Alte Mühle
ORGANIZER:MAILTO:Pro Regio Huttwil <info@regio-huttwil.ch>
SUMMARY:Konzert Dun Aengus
END:VEVENT
END:VCALENDAR
