BEGIN:VCALENDAR
VERSION:2.0
PRODID:-//Pro Regio Huttwil//NONSGML kigkonsult.se iCalcreator 2.16.12//
METHOD:PUBLISH
X-MS-OLK-FORCEINSPECTOROPEN:TRUE
BEGIN:VEVENT
UID:20260422T105200CEST-1523EAfC37@Pro Regio Huttwil
DTSTAMP:20260422T085200Z
DESCRIPTION:
DTSTART:20181208T180000
DTEND:20181209T030000
LOCATION:Campus Perspektiven
ORGANIZER:MAILTO:Pro Regio Huttwil <info@regio-huttwil.ch>
SUMMARY:DOMI RACING PARTY
END:VEVENT
END:VCALENDAR
