BEGIN:VCALENDAR
VERSION:2.0
PRODID:-//Pro Regio Huttwil//NONSGML kigkonsult.se iCalcreator 2.16.12//
METHOD:PUBLISH
X-MS-OLK-FORCEINSPECTOROPEN:TRUE
BEGIN:VEVENT
UID:20260420T134513CEST-9816eJLBMo@Pro Regio Huttwil
DTSTAMP:20260420T114513Z
DESCRIPTION:Mode auf Wein und Bier\, das rat ich Dir!\n\nSommerevent Freita
 g\, 29. Juni 2019\, bei Niederhauser Mode AG an der Marktgasse 7\, 4950 Hu
 ttwil\n\nBis zu 20 % Sommerrabatt\n\nab 16.00 Uhr bis 21.00 Uhr Wein- und 
 Bierdegustation (Gedex Getränke Huttwil)\n\nKommen Sie vorbei\, wir freuen
  uns auf Ihren Besuch!
DTSTART:20180629T160000
DTEND:20180629T210000
LOCATION:Huttwil
ORGANIZER:MAILTO:Pro Regio Huttwil <info@regio-huttwil.ch>
SUMMARY:Sommerevent bei Niederhauser Mode
END:VEVENT
END:VCALENDAR
