BEGIN:VCALENDAR
VERSION:2.0
PRODID:-//Pro Regio Huttwil//NONSGML kigkonsult.se iCalcreator 2.16.12//
METHOD:PUBLISH
X-MS-OLK-FORCEINSPECTOROPEN:TRUE
BEGIN:VEVENT
UID:20260420T134844CEST-45341zAvNp@Pro Regio Huttwil
DTSTAMP:20260420T114844Z
DESCRIPTION:- Spaghetti mit drei feinen Saucen à discrétion\n- Unterhaltu
 ng mit «Gleis 2 - di angeri Musig»
DTSTART:20180818T180000
DTEND:20180818T000000
LOCATION:Alte Turnhalle
ORGANIZER:MAILTO:Pro Regio Huttwil <info@regio-huttwil.ch>
SUMMARY:8. Sommer-Spaghettiplausch der Stadtmusik Huttwil
END:VEVENT
END:VCALENDAR
