BEGIN:VCALENDAR
VERSION:2.0
PRODID:-//Pro Regio Huttwil//NONSGML kigkonsult.se iCalcreator 2.16.12//
METHOD:PUBLISH
X-MS-OLK-FORCEINSPECTOROPEN:TRUE
BEGIN:VEVENT
UID:20260420T134844CEST-6807XoSvCp@Pro Regio Huttwil
DTSTAMP:20260420T114844Z
DESCRIPTION:Geniessen Sie das einzigartige Lama-Erlebnis inmitten der wunde
 rschönen Hügellandschaft.\n\nSie haben die Möglichkeit an der öffentlichen
  Lamawanderung teilzunehmen. Mit maximal\n16 Tieren gehen wir zusammen auf
  eine 2-stündige Wanderung.\nAnschliessend gibt es ein kleines Znüni und Z
 vieri.\n\nKosten pro Erwachsene CHF 35.00 & pro Kind CHF 15.00\n\nAnmeldun
 gen erforderlich unter info@lamahof-tschaeppel.ch\noder Tel. 062 962 00 54
DTSTART:20180411T100000
DTEND:20180411T120000
LOCATION:Huttwil
ORGANIZER:MAILTO:Pro Regio Huttwil <info@regio-huttwil.ch>
SUMMARY:Lamawanderung
END:VEVENT
END:VCALENDAR
