BEGIN:VCALENDAR
VERSION:2.0
PRODID:-//Pro Regio Huttwil//NONSGML kigkonsult.se iCalcreator 2.16.12//
METHOD:PUBLISH
X-MS-OLK-FORCEINSPECTOROPEN:TRUE
BEGIN:VEVENT
UID:20260420T134751CEST-8779NCBGnH@Pro Regio Huttwil
DTSTAMP:20260420T114751Z
DESCRIPTION:Angebot:   Brot\, Züpfe\, Konfitüre\, Honig\, Butter\, Käse- un
 d Fleischplatte\, Rösti\, Bratspeck\, franz. Omelette\, Birchermüesli\, Ce
 realien und Fruchtsalat\, Früchtejoghurt\, Naturejoghurt\,               K
 affee\, Milch\, Tee\, Wasser\, Apfelsaft
DTSTART:20180402T093000
DTEND:20180402T123000
LOCATION:Lamahof Tschäppel
ORGANIZER:MAILTO:Pro Regio Huttwil <info@regio-huttwil.ch>
SUMMARY:Ostermontags-Brunch
END:VEVENT
END:VCALENDAR
