BEGIN:VCALENDAR
VERSION:2.0
PRODID:-//Pro Regio Huttwil//NONSGML kigkonsult.se iCalcreator 2.16.12//
METHOD:PUBLISH
X-MS-OLK-FORCEINSPECTOROPEN:TRUE
BEGIN:VEVENT
UID:20260420T134812CEST-4285NrL4Li@Pro Regio Huttwil
DTSTAMP:20260420T114812Z
DESCRIPTION:Zeit:     09.30 - 12.30 Uhr                Anmeldung erforderli
 chAngebot: Brot\, Züpfe\, Konfiütre\, Honig\, Butter\, Käse- und Fleischpl
 atte\, Rösti\, Bratspeck\, franz. Omelette\, Birchermüesli\, Cerealien und
  Fruchtsalat\, Früchtejoghurt\, Naturejoghurt\,      Kaffee\, Milch\, Tee\
 , Wasser ApfelsaftWir freuen uns über jede Reservation.
DTSTART:20180320T162600
DTEND:20180320T162600
LOCATION:Lamahof Tschäppel
ORGANIZER:MAILTO:Pro Regio Huttwil <info@regio-huttwil.ch>
SUMMARY:Ostermontagsbrunch
END:VEVENT
END:VCALENDAR
