BEGIN:VCALENDAR
VERSION:2.0
PRODID:-//Pro Regio Huttwil//NONSGML kigkonsult.se iCalcreator 2.16.12//
METHOD:PUBLISH
X-MS-OLK-FORCEINSPECTOROPEN:TRUE
BEGIN:VEVENT
UID:20260420T134812CEST-0291Rg9rc9@Pro Regio Huttwil
DTSTAMP:20260420T114812Z
DESCRIPTION:Einladung zur Modenschau 'Soirée rose'\n\nbei Niederhauser Mode
  in Huttwil
DTSTART:20180315T200000
DTEND:20180315T000000
LOCATION:Mode Niederhauser
ORGANIZER:MAILTO:Pro Regio Huttwil <info@regio-huttwil.ch>
SUMMARY:Soirée rose
END:VEVENT
END:VCALENDAR
