BEGIN:VCALENDAR
VERSION:2.0
PRODID:-//Pro Regio Huttwil//NONSGML kigkonsult.se iCalcreator 2.16.12//
METHOD:PUBLISH
X-MS-OLK-FORCEINSPECTOROPEN:TRUE
BEGIN:VEVENT
UID:20260420T120136CEST-0861OHnUcK@Pro Regio Huttwil
DTSTAMP:20260420T100136Z
DESCRIPTION:\n 
DTSTART:20181204T133000
DTEND:20181204T153000
LOCATION:Vereinshaus EGW
ORGANIZER:MAILTO:Pro Regio Huttwil <info@regio-huttwil.ch>
SUMMARY: Gemeinschaftsnachmittag
END:VEVENT
END:VCALENDAR
