BEGIN:VCALENDAR
VERSION:2.0
PRODID:-//Pro Regio Huttwil//NONSGML kigkonsult.se iCalcreator 2.16.12//
METHOD:PUBLISH
X-MS-OLK-FORCEINSPECTOROPEN:TRUE
BEGIN:VEVENT
UID:20260420T162851CEST-22655xfuGd@Pro Regio Huttwil
DTSTAMP:20260420T142851Z
DESCRIPTION:
DTSTART:20181203T200000
DTEND:20181203T000000
LOCATION:MZH / Tagungsraum
ORGANIZER:MAILTO:Pro Regio Huttwil <info@regio-huttwil.ch>
SUMMARY:Gemeindeversammlung
END:VEVENT
END:VCALENDAR
