BEGIN:VCALENDAR
VERSION:2.0
PRODID:-//Pro Regio Huttwil//NONSGML kigkonsult.se iCalcreator 2.16.12//
METHOD:PUBLISH
X-MS-OLK-FORCEINSPECTOROPEN:TRUE
BEGIN:VEVENT
UID:20260422T121550CEST-2078v11uvR@Pro Regio Huttwil
DTSTAMP:20260422T101550Z
DESCRIPTION:
DTSTART:20181013T000000
DTEND:20181013T000000
LOCATION:MZH
ORGANIZER:MAILTO:Pro Regio Huttwil <info@regio-huttwil.ch>
SUMMARY:Konzert / Theater
END:VEVENT
END:VCALENDAR
