BEGIN:VCALENDAR
VERSION:2.0
PRODID:-//Pro Regio Huttwil//NONSGML kigkonsult.se iCalcreator 2.16.12//
METHOD:PUBLISH
X-MS-OLK-FORCEINSPECTOROPEN:TRUE
BEGIN:VEVENT
UID:20260422T141648CEST-1985W5o3mZ@Pro Regio Huttwil
DTSTAMP:20260422T121648Z
DESCRIPTION:\n 
DTSTART:20180925T113000
DTEND:20180925T000000
LOCATION:Vereinshaus EGW
ORGANIZER:MAILTO:Pro Regio Huttwil <info@regio-huttwil.ch>
SUMMARY:Mittagessen für Alleinstehende
END:VEVENT
END:VCALENDAR
