BEGIN:VCALENDAR
VERSION:2.0
PRODID:-//Pro Regio Huttwil//NONSGML kigkonsult.se iCalcreator 2.16.12//
METHOD:PUBLISH
X-MS-OLK-FORCEINSPECTOROPEN:TRUE
BEGIN:VEVENT
UID:20260422T123532CEST-9084ApWMWU@Pro Regio Huttwil
DTSTAMP:20260422T103532Z
DESCRIPTION:
DTSTART:20180923T000000
DTEND:20180923T000000
LOCATION:MZH
ORGANIZER:MAILTO:Pro Regio Huttwil <info@regio-huttwil.ch>
SUMMARY:6er-Verbands- / Gotthelfhornussen
END:VEVENT
END:VCALENDAR
