BEGIN:VCALENDAR
VERSION:2.0
PRODID:-//Pro Regio Huttwil//NONSGML kigkonsult.se iCalcreator 2.16.12//
METHOD:PUBLISH
X-MS-OLK-FORCEINSPECTOROPEN:TRUE
BEGIN:VEVENT
UID:20260420T134744CEST-1947IUHEfX@Pro Regio Huttwil
DTSTAMP:20260420T114744Z
DESCRIPTION:
DTSTART:20180510T100000
DTEND:20180510T000000
LOCATION:Kirche
ORGANIZER:MAILTO:Pro Regio Huttwil <info@regio-huttwil.ch>
SUMMARY:Auffahrt-Konfirmation
END:VEVENT
END:VCALENDAR
