BEGIN:VCALENDAR
VERSION:2.0
PRODID:-//Pro Regio Huttwil//NONSGML kigkonsult.se iCalcreator 2.16.12//
METHOD:PUBLISH
X-MS-OLK-FORCEINSPECTOROPEN:TRUE
BEGIN:VEVENT
UID:20260422T103945CEST-6012v4tiDk@Pro Regio Huttwil
DTSTAMP:20260422T083945Z
DESCRIPTION:
DTSTART:20181228T000000
DTEND:20181228T000000
LOCATION:Campus Perspektiven
ORGANIZER:MAILTO:Pro Regio Huttwil <info@regio-huttwil.ch>
SUMMARY:Kaninchenausstellung
END:VEVENT
END:VCALENDAR
