BEGIN:VCALENDAR
VERSION:2.0
PRODID:-//Pro Regio Huttwil//NONSGML kigkonsult.se iCalcreator 2.16.12//
METHOD:PUBLISH
X-MS-OLK-FORCEINSPECTOROPEN:TRUE
BEGIN:VEVENT
UID:20260422T121811CEST-0714Su9h8P@Pro Regio Huttwil
DTSTAMP:20260422T101811Z
DESCRIPTION:
DTSTART:20181120T000000
DTEND:20181120T000000
LOCATION:Kirchgemeindehaus
ORGANIZER:MAILTO:Pro Regio Huttwil <info@regio-huttwil.ch>
SUMMARY:Mittagstisch
END:VEVENT
END:VCALENDAR
