BEGIN:VCALENDAR
VERSION:2.0
PRODID:-//Pro Regio Huttwil//NONSGML kigkonsult.se iCalcreator 2.16.12//
METHOD:PUBLISH
X-MS-OLK-FORCEINSPECTOROPEN:TRUE
BEGIN:VEVENT
UID:20260422T123533CEST-47146nZEZl@Pro Regio Huttwil
DTSTAMP:20260422T103533Z
DESCRIPTION:
DTSTART:20181019T000000
DTEND:20181019T000000
LOCATION:Kirchgemeindehaus
ORGANIZER:MAILTO:Pro Regio Huttwil <info@regio-huttwil.ch>
SUMMARY:Vereins- und Einzelehrungen
END:VEVENT
END:VCALENDAR
