BEGIN:VCALENDAR
VERSION:2.0
PRODID:-//Pro Regio Huttwil//NONSGML kigkonsult.se iCalcreator 2.16.12//
METHOD:PUBLISH
X-MS-OLK-FORCEINSPECTOROPEN:TRUE
BEGIN:VEVENT
UID:20260420T134643CEST-5955JXnIDD@Pro Regio Huttwil
DTSTAMP:20260420T114643Z
DESCRIPTION:
DTSTART:20180801T000000
DTEND:20180801T000000
LOCATION:Fritzeflue
ORGANIZER:MAILTO:Pro Regio Huttwil <info@regio-huttwil.ch>
SUMMARY:1. Augustfeier
END:VEVENT
END:VCALENDAR
