BEGIN:VCALENDAR
VERSION:2.0
PRODID:-//Pro Regio Huttwil//NONSGML kigkonsult.se iCalcreator 2.16.12//
METHOD:PUBLISH
X-MS-OLK-FORCEINSPECTOROPEN:TRUE
BEGIN:VEVENT
UID:20260420T134610CEST-7070DRRupV@Pro Regio Huttwil
DTSTAMP:20260420T114610Z
DESCRIPTION:
DTSTART:20180623T000000
DTEND:20180623T000000
LOCATION:Sportplatz Melacher
ORGANIZER:MAILTO:Pro Regio Huttwil <info@regio-huttwil.ch>
SUMMARY:Dorfturnier
END:VEVENT
END:VCALENDAR
