BEGIN:VCALENDAR
VERSION:2.0
PRODID:-//Pro Regio Huttwil//NONSGML kigkonsult.se iCalcreator 2.16.12//
METHOD:PUBLISH
X-MS-OLK-FORCEINSPECTOROPEN:TRUE
BEGIN:VEVENT
UID:20260420T152405CEST-71064TMVwM@Pro Regio Huttwil
DTSTAMP:20260420T132405Z
DESCRIPTION:
DTSTART:20180204T093000
DTEND:20180204T000000
LOCATION:Kirche Dürrenroth
ORGANIZER:MAILTO:Pro Regio Huttwil <info@regio-huttwil.ch>
SUMMARY:Kirchensonntag
END:VEVENT
END:VCALENDAR
