BEGIN:VCALENDAR
VERSION:2.0
PRODID:-//Pro Regio Huttwil//NONSGML kigkonsult.se iCalcreator 2.16.12//
METHOD:PUBLISH
X-MS-OLK-FORCEINSPECTOROPEN:TRUE
BEGIN:VEVENT
UID:20260420T151922CEST-8291RUv7kd@Pro Regio Huttwil
DTSTAMP:20260420T131922Z
DESCRIPTION:
DTSTART:20180203T130000
DTEND:20180203T170000
LOCATION:Vereinshaus EGW
ORGANIZER:MAILTO:Pro Regio Huttwil <info@regio-huttwil.ch>
SUMMARY:Kaffeestube
END:VEVENT
END:VCALENDAR
