BEGIN:VCALENDAR
VERSION:2.0
PRODID:-//Pro Regio Huttwil//NONSGML kigkonsult.se iCalcreator 2.16.12//
METHOD:PUBLISH
X-MS-OLK-FORCEINSPECTOROPEN:TRUE
BEGIN:VEVENT
UID:20260420T152304CEST-5509vIldDm@Pro Regio Huttwil
DTSTAMP:20260420T132304Z
DESCRIPTION:
DTSTART:20180117T100000
DTEND:20180117T000000
LOCATION:Bären
ORGANIZER:MAILTO:Pro Regio Huttwil <info@regio-huttwil.ch>
SUMMARY:Seniorenmittagstisch mit Bildervortrag
END:VEVENT
END:VCALENDAR
