BEGIN:VCALENDAR
VERSION:2.0
PRODID:-//Pro Regio Huttwil//NONSGML kigkonsult.se iCalcreator 2.16.12//
METHOD:PUBLISH
X-MS-OLK-FORCEINSPECTOROPEN:TRUE
BEGIN:VEVENT
UID:20260420T152453CEST-9862O6mWEK@Pro Regio Huttwil
DTSTAMP:20260420T132453Z
DESCRIPTION:Geniessen Sie das einzigartige Lama-Erlebnis inmitten der wunde
 rschönen Hügellandschaft.\n\nSie haben die Möglichkeit an der öffentlichen
  Lamawanderung teilzunehmen. Mit maximal 16 Tieren gehen wir zusammen auf 
 eine 2-stündige Wanderung.\n\nKosten:\nPro Erwachsene: Fr. 35.00\nPro Kind
 : Fr. 5.00\n\nAnmeldungen erforderlich unter info@lamahof-tschaeppel.ch od
 er Tel. 062 962 00 54\n\nWir erlauben uns\, bei nicht idealen Wetterbeding
 ungen den Anlass abzusagen.
DTSTART:20180113T140000
DTEND:20180113T160000
LOCATION:Huttwil
ORGANIZER:MAILTO:Pro Regio Huttwil <info@regio-huttwil.ch>
SUMMARY:Lamawanderung
END:VEVENT
END:VCALENDAR
